Workbook

Sheet Rekapitulace stavby
A1: Export Komplet | BA1: 2.0 | BB1: ZAMOK | BT1: False | BU1: False | BV1: {2ea4772a-d59f-450f-81f0-a581f5ea7a1c}
BS2: 0,01 | BT2: 21
BS3: 0,01 | BT3: 15
D4: REKAPITULACE STAVBY | AS4: v --- níže se nacházejí doplnkové a pomocné údaje k sestavám --- v | BE4: Návod na vyplnění | BS4: 0,001
D5: Kód: | K5: Z717 | BE5: Měnit lze pouze buňky se žlutým podbarvením!_x000D_ _x000D_ 1) na prvním listu Rekapitulace stavby vyplňte v sestavě_x000D_ _x000D_ a) Souhrnný list_x000D_ - údaje o Zhotoviteli_x000D_ (přenesou se do ostatních sestav i v jiných listech)_x000D_ _x000D_ b) Rekapitulace objektů_x000D_ - potřebné Ostatní náklady_x000D_ _x000D_ 2) na vybraných listech vyplňte v sestavě_x000D_ _x000D_ a) Krycí list_x000D_ - údaje o Zhotoviteli, pokud se liší od údajů o Zhotoviteli na Souhrnném listu_x000D_ (údaje se přenesou do ostatních sestav v daném listu)_x000D_ _x000D_ b) Rekapitulace rozpočtu_x000D_ - potřebné Ostatní náklady_x000D_ _x000D_ c) Celkové náklady za stavbu_x000D_ - ceny u položek_x000D_ - množství, pokud má žluté podbarvení_x000D_ - a v případě potřeby poznámku (ta je ve skrytém sloupci) | BS5: 0,01
D6: Stavba: | K6: Chodník od mostu přes Olši k firmě Netis | BS6: 0,01
D7: KSO: | AK7: CC-CZ: | BS7: 0,01
D8: Místo: | K8: Obec Návsí | AK8: Datum: | AN8: 16. 1. 2020 | BS8: 0,01
BS9: 0,01
D10: Zadavatel: | AK10: IČ: | BS10: 0,01
AK11: DIČ: | BS11: 0,01
BS12: 0,01
D13: Uchazeč: | AK13: IČ: | AN13: Vyplň údaj | BS13: 0,01
E14: Vyplň údaj | AK14: DIČ: | AN14: Vyplň údaj | BS14: 0,01
BS15: False
D16: Projektant: | AK16: IČ: | BS16: False
AK17: DIČ: | BS17: True
BS18: 0,01
D19: Zpracovatel: | AK19: IČ: | BS19: 0,01
AK20: DIČ: | BS20: True
D22: Poznámka:
D26: Cena bez DPH | AK26: =ROUND(AG54,2) -> 0
L28: Sazba daně | W28: Základ daně | AK28: Výše daně
D29: DPH | F29: základní | L29: 0.21 | W29: =ROUND(AZ54, 2) -> 0 | AK29: =ROUND(AV54, 2) -> 0
F30: snížená | L30: 0.15 | W30: =ROUND(BA54, 2) -> 0 | AK30: =ROUND(AW54, 2) -> 0
F31: zákl. přenesená | L31: 0.21 | W31: =ROUND(BB54, 2) -> 0 | AK31: 0
F32: sníž. přenesená | L32: 0.15 | W32: =ROUND(BC54, 2) -> 0 | AK32: 0
F33: nulová | L33: 0 | W33: =ROUND(BD54, 2) -> 0 | AK33: 0
D35: Cena s DPH | T35: v | X35: CZK | AK35: =SUM(AK26:AK33) -> 0
C42: REKAPITULACE OBJEKTŮ STAVBY A SOUPISŮ PRACÍ
C44: Kód: | L44: =K5 -> Z717
C45: Stavba: | L45: =K6 -> Chodník od mostu přes Olši k firmě Netis
C47: Místo: | L47: =IF(K8="","",K8) -> Obec Návsí | AI47: Datum: | AM47: =IF(AN8= "","",AN8) -> 16. 1. 2020
C49: Zadavatel: | L49: =IF(E11= "","",E11) | AI49: Projektant: | AM49: =IF(E17="","",E17) | AS49: Informatívní údaje z listů zakázek
C50: Uchazeč: | L50: =IF(E14= "Vyplň údaj","",E14) | AI50: Zpracovatel: | AM50: =IF(E20="","",E20)
C52: Kód | I52: Popis | AG52: Cena bez DPH [CZK] | AN52: Cena s DPH [CZK] | AQ52: Typ | AS52: z toho Ostat._x000D_ náklady [CZK] | AT52: DPH [CZK] | AU52: Normohodiny [h] | AV52: DPH základní [CZK] | AW52: DPH snížená [CZK] | AX52: DPH základní přenesená_x000D_ [CZK] | AY52: DPH snížená přenesená_x000D_ [CZK] | AZ52: Základna_x000D_ DPH základní | BA52: Základna_x000D_ DPH snížená | BB52: Základna_x000D_ DPH zákl. přenesená | BC52: Základna_x000D_ DPH sníž. přenesená | BD52: Základna_x000D_ DPH nulová
C54: Náklady z rozpočtů | AG54: =ROUND(AG55,2) -> 0 | AN54: =SUM(AG54,AT54) -> 0 | AS54: =ROUND(AS55,2) -> 0 | AT54: =ROUND(SUM(AV54:AW54),2) -> 0 | AU54: =ROUND(AU55,5) -> 0 | AV54: =ROUND(AZ54*L29,2) -> 0 | AW54: =ROUND(BA54*L30,2) -> 0 | AX54: =ROUND(BB54*L29,2) -> 0 | AY54: =ROUND(BC54*L30,2) -> 0 | AZ54: =ROUND(AZ55,2) -> 0 | BA54: =ROUND(BA55,2) -> 0 | BB54: =ROUND(BB55,2) -> 0 | BC54: =ROUND(BC55,2) -> 0 | BD54: =ROUND(BD55,2) -> 0 | BS54: D | BT54: 0 | BV54: IMPORT | BW54: {2ea4772a-d59f-450f-81f0-a581f5ea7a1c} | BX54: {00000000-0000-0000-0000-000000000000}
A55: / | D55: Z717 | J55: Chodník od mostu přes Olši k firmě Netis | AG55: ='Z717 - Chodník od mostu p...'!J28 -> 0 | AN55: =SUM(AG55,AT55) -> 0 | AQ55: STA | AS55: 0 | AT55: =ROUND(SUM(AV55:AW55),2) -> 0 | AU55: ='Z717 - Chodník od mostu p...'!P86 -> 0 | AV55: ='Z717 - Chodník od mostu p...'!J31 -> 0 | AW55: ='Z717 - Chodník od mostu p...'!J32 -> 0 | AX55: ='Z717 - Chodník od mostu p...'!J33 -> 0 | AY55: ='Z717 - Chodník od mostu p...'!J34 -> 0 | AZ55: ='Z717 - Chodník od mostu p...'!F31 -> 0 | BA55: ='Z717 - Chodník od mostu p...'!F32 -> 0 | BB55: ='Z717 - Chodník od mostu p...'!F33 -> 0 | BC55: ='Z717 - Chodník od mostu p...'!F34 -> 0 | BD55: ='Z717 - Chodník od mostu p...'!F35 -> 0 | BT55: 1 | BU55: ###NOINSERT### | BV55: IMPORT | BW55: {2ea4772a-d59f-450f-81f0-a581f5ea7a1c} | BX55: {00000000-0000-0000-0000-000000000000}

Sheet Z717 - Chodník od mostu p...
AT2: {2ea4772a-d59f-450f-81f0-a581f5ea7a1c}
AT3: 2
D4: KRYCÍ LIST SOUPISU PRACÍ | M4: v --- níže se nacházejí doplnkové a pomocné údaje k sestavám --- v | AT4: False
D6: Stavba:
E7: Chodník od mostu přes Olši k firmě Netis
D9: KSO: | I9: CC-CZ:
D10: Místo: | F10: Obec Návsí | I10: Datum: | J10: ='Rekapitulace stavby'!AN8 -> 16. 1. 2020
D12: Zadavatel: | I12: IČ: | J12: =IF('Rekapitulace stavby'!AN10="","",'Rekapitulace stavby'!AN10)
E13: =IF('Rekapitulace stavby'!E11="","",'Rekapitulace stavby'!E11) | I13: DIČ: | J13: =IF('Rekapitulace stavby'!AN11="","",'Rekapitulace stavby'!AN11)
D15: Uchazeč: | I15: IČ: | J15: ='Rekapitulace stavby'!AN13 -> Vyplň údaj
E16: ='Rekapitulace stavby'!E14 -> Vyplň údaj | I16: DIČ: | J16: ='Rekapitulace stavby'!AN14 -> Vyplň údaj
D18: Projektant: | I18: IČ: | J18: =IF('Rekapitulace stavby'!AN16="","",'Rekapitulace stavby'!AN16)
E19: =IF('Rekapitulace stavby'!E17="","",'Rekapitulace stavby'!E17) | I19: DIČ: | J19: =IF('Rekapitulace stavby'!AN17="","",'Rekapitulace stavby'!AN17)
D21: Zpracovatel: | I21: IČ: | J21: =IF('Rekapitulace stavby'!AN19="","",'Rekapitulace stavby'!AN19)
E22: =IF('Rekapitulace stavby'!E20="","",'Rekapitulace stavby'!E20) | I22: DIČ: | J22: =IF('Rekapitulace stavby'!AN20="","",'Rekapitulace stavby'!AN20)
D24: Poznámka:
D28: Cena bez DPH | J28: =ROUND(J86, 2) -> 0
F30: Základ daně | I30: Sazba daně | J30: Výše daně
D31: DPH | E31: základní | F31: =ROUND((SUM(BE86:BE231)), 2) -> 0 | I31: 0.21 | J31: =ROUND(((SUM(BE86:BE231))*I31), 2) -> 0
E32: snížená | F32: =ROUND((SUM(BF86:BF231)), 2) -> 0 | I32: 0.15 | J32: =ROUND(((SUM(BF86:BF231))*I32), 2) -> 0
E33: zákl. přenesená | F33: =ROUND((SUM(BG86:BG231)), 2) -> 0 | I33: 0.21 | J33: =0 -> 0
E34: sníž. přenesená | F34: =ROUND((SUM(BH86:BH231)), 2) -> 0 | I34: 0.15 | J34: =0 -> 0
E35: nulová | F35: =ROUND((SUM(BI86:BI231)), 2) -> 0 | I35: 0 | J35: =0 -> 0
D37: Cena s DPH | G37: v | H37: CZK | J37: =SUM(J28:J35) -> 0
C43: REKAPITULACE ČLENĚNÍ SOUPISU PRACÍ
C45: Stavba:
E46: =E7 -> Chodník od mostu přes Olši k firmě Netis
C48: Místo: | F48: =F10 -> Obec Návsí | I48: Datum: | J48: =IF(J10="","",J10) -> 16. 1. 2020
C50: Zadavatel: | F50: =E13 | I50: Projektant: | J50: =E19
C51: Uchazeč: | F51: =IF(E16="","",E16) -> Vyplň údaj | I51: Zpracovatel: | J51: =E22
C53: Kód dílu - Popis | J53: Cena celkem [CZK]
C55: Náklady ze soupisu prací | J55: =J86 -> 0 | AU55: -1
D56: HSV - Práce a dodávky HSV | J56: =J87 -> 0
D57: 1 - Zemní práce | J57: =J88 -> 0
D58: 2 - Zakládání | J58: =J142 -> 0
D59: 4 - Vodorovné konstrukce | J59: =J152 -> 0
D60: 5 - Komunikace pozemní | J60: =J156 -> 0
D61: 8 - Trubní vedení | J61: =J178 -> 0
D62: 9 - Ostatní konstrukce a práce, bourání | J62: =J180 -> 0
D63: PSV - Práce a dodávky PSV | J63: =J203 -> 0
D64: 743 - Elektromontáže - hrubá montáž | J64: =J204 -> 0
D65: VRN - Vedlejší rozpočtové náklady | J65: =J217 -> 0
D66: VRN1 - Průzkumné, geodetické a projektové práce | J66: =J218 -> 0
D67: VRN3 - Zařízení staveniště | J67: =J226 -> 0
D68: VRN4 - Inženýrská činnost | J68: =J230 -> 0
C75: SOUPIS PRACÍ
C77: Stavba:
E78: =E7 -> Chodník od mostu přes Olši k firmě Netis
C80: Místo: | F80: =F10 -> Obec Návsí | I80: Datum: | J80: =IF(J10="","",J10) -> 16. 1. 2020
C82: Zadavatel: | F82: =E13 | I82: Projektant: | J82: =E19
C83: Uchazeč: | F83: =IF(E16="","",E16) -> Vyplň údaj | I83: Zpracovatel: | J83: =E22
C85: PČ | D85: Typ | E85: Kód | F85: Popis | G85: MJ | H85: Množství | I85: J.cena [CZK] | J85: Cena celkem [CZK] | K85: Cenová soustava | N85: DPH | O85: J. Nh [h] | P85: Nh celkem [h] | Q85: J. hmotnost [t] | R85: Hmotnost celkem [t] | S85: J. suť [t] | T85: Suť Celkem [t]
C86: Náklady soupisu celkem | J86: =BK86 -> 0 | P86: =P87+P203+P217 -> 0 | R86: =R87+R203+R217 -> 1531.5612 | T86: =T87+T203+T217 -> 4.35 | AT86: D | AU86: -1 | BK86: =BK87+BK203+BK217 -> 0
D87: D | E87: HSV | F87: Práce a dodávky HSV | J87: =BK87 -> 0 | P87: =P88+P142+P152+P156+P178+P180 -> 0 | R87: =R88+R142+R152+R156+R178+R180 -> 1531.5497 | T87: =T88+T142+T152+T156+T178+T180 -> 4.35 | AR87: 1 | AT87: D | AU87: 0 | AY87: ROZPOCET | BK87: =BK88+BK142+BK152+BK156+BK178+BK180 -> 0
D88: D | E88: 1 | F88: Zemní práce | J88: =BK88 -> 0 | P88: =SUM(P89:P141) -> 0 | R88: =SUM(R89:R141) -> 1331.0155 | T88: =SUM(T89:T141) -> 4.35 | AR88: 1 | AT88: D | AU88: 1 | AY88: ROZPOCET | BK88: =SUM(BK89:BK141) -> 0
C89: 11 | D89: K | E89: 113201112 | F89: Vytrhání obrub silničních ležatých | G89: m | H89: 15 | J89: =ROUND(I89*H89,2) -> 0 | K89: CS ÚRS 2019 01 | N89: základní | P89: =O89*H89 -> 0 | Q89: 0 | R89: =Q89*H89 -> 0 | S89: 0.29 | T89: =S89*H89 -> 4.35 | AR89: 4 | AT89: K | AU89: 2 | AY89: ROZPOCET | BE89: =IF(N89="základní",J89,0) -> 0 | BF89: =IF(N89="snížená",J89,0) -> 0 | BG89: =IF(N89="zákl. přenesená",J89,0) -> 0 | BH89: =IF(N89="sníž. přenesená",J89,0) -> 0 | BI89: =IF(N89="nulová",J89,0) -> 0 | BJ89: 1 | BK89: =ROUND(I89*H89,2) -> 0 | BL89: 4 | BM89: 2015207155
D90: VV | F90: Napojení chodníku na komunikaci | AT90: VV | AU90: 2 | AV90: 1 | AW90: True | AX90: 0 | AY90: ROZPOCET
D91: VV | F91: 3*5 | H91: 15 | AT91: VV | AU91: 2 | AV91: 2 | AW91: True | AX91: 0 | AY91: ROZPOCET
D92: VV | F92: Součet | H92: 15 | AT92: VV | AU92: 2 | AV92: 4 | AW92: True | AX92: 1 | AY92: ROZPOCET
C93: 1 | D93: K | E93: 121101102 | F93: Sejmutí ornice s přemístěním na vzdálenost do 100 m | G93: m3 | H93: 188.554 | J93: =ROUND(I93*H93,2) -> 0 | K93: CS ÚRS 2019 01 | N93: základní | P93: =O93*H93 -> 0 | Q93: 0 | R93: =Q93*H93 -> 0 | S93: 0 | T93: =S93*H93 -> 0 | AR93: 4 | AT93: K | AU93: 2 | AY93: ROZPOCET | BE93: =IF(N93="základní",J93,0) -> 0 | BF93: =IF(N93="snížená",J93,0) -> 0 | BG93: =IF(N93="zákl. přenesená",J93,0) -> 0 | BH93: =IF(N93="sníž. přenesená",J93,0) -> 0 | BI93: =IF(N93="nulová",J93,0) -> 0 | BJ93: 1 | BK93: =ROUND(I93*H93,2) -> 0 | BL93: 4 | BM93: 2036802824
D94: VV | F94: Plocha z AutoCadu * 0,2 tl. ornice | AT94: VV | AU94: 2 | AV94: 1 | AW94: True | AX94: 0 | AY94: ROZPOCET
D95: VV | F95: 942,77*0,2 | H95: 188.554 | AT95: VV | AU95: 2 | AV95: 2 | AW95: True | AX95: 0 | AY95: ROZPOCET
D96: VV | F96: Součet | H96: 188.554 | AT96: VV | AU96: 2 | AV96: 4 | AW96: True | AX96: 1 | AY96: ROZPOCET
C97: 2 | D97: K | E97: 122301101 | F97: Odkopávky a prokopávky nezapažené v hornině tř. 4 objem do 100 m3 | G97: m3 | H97: 519.436 | J97: =ROUND(I97*H97,2) -> 0 | K97: CS ÚRS 2019 01 | N97: základní | P97: =O97*H97 -> 0 | Q97: 0 | R97: =Q97*H97 -> 0 | S97: 0 | T97: =S97*H97 -> 0 | AR97: 4 | AT97: K | AU97: 2 | AY97: ROZPOCET | BE97: =IF(N97="základní",J97,0) -> 0 | BF97: =IF(N97="snížená",J97,0) -> 0 | BG97: =IF(N97="zákl. přenesená",J97,0) -> 0 | BH97: =IF(N97="sníž. přenesená",J97,0) -> 0 | BI97: =IF(N97="nulová",J97,0) -> 0 | BJ97: 1 | BK97: =ROUND(I97*H97,2) -> 0 | BL97: 4 | BM97: -25740841
D98: VV | F98: Zářez | AT98: VV | AU98: 2 | AV98: 1 | AW98: True | AX98: 0 | AY98: ROZPOCET
D99: VV | F99: 11,58*30+4,15*20+2,28*20+0,72*20+0,71*25+4,95*2,28 | H99: 519.436 | AT99: VV | AU99: 2 | AV99: 2 | AW99: True | AX99: 0 | AY99: ROZPOCET
D100: VV | F100: Součet | H100: 519.436 | AT100: VV | AU100: 2 | AV100: 4 | AW100: True | AX100: 1 | AY100: ROZPOCET
C101: 3 | D101: K | E101: 122301109 | F101: Příplatek za lepivost u odkopávek nezapažených v hornině tř. 4 | G101: m3 | H101: 519.436 | J101: =ROUND(I101*H101,2) -> 0 | K101: CS ÚRS 2019 01 | N101: základní | P101: =O101*H101 -> 0 | Q101: 0 | R101: =Q101*H101 -> 0 | S101: 0 | T101: =S101*H101 -> 0 | AR101: 4 | AT101: K | AU101: 2 | AY101: ROZPOCET | BE101: =IF(N101="základní",J101,0) -> 0 | BF101: =IF(N101="snížená",J101,0) -> 0 | BG101: =IF(N101="zákl. přenesená",J101,0) -> 0 | BH101: =IF(N101="sníž. přenesená",J101,0) -> 0 | BI101: =IF(N101="nulová",J101,0) -> 0 | BJ101: 1 | BK101: =ROUND(I101*H101,2) -> 0 | BL101: 4 | BM101: -306498608
C102: 8 | D102: K | E102: 132301201 | F102: Hloubení rýh š do 2000 mm v hornině tř. 4 objemu do 100 m3 | G102: m3 | H102: 13.933 | J102: =ROUND(I102*H102,2) -> 0 | K102: CS ÚRS 2019 01 | N102: základní | P102: =O102*H102 -> 0 | Q102: 0 | R102: =Q102*H102 -> 0 | S102: 0 | T102: =S102*H102 -> 0 | AR102: 4 | AT102: K | AU102: 2 | AY102: ROZPOCET | BE102: =IF(N102="základní",J102,0) -> 0 | BF102: =IF(N102="snížená",J102,0) -> 0 | BG102: =IF(N102="zákl. přenesená",J102,0) -> 0 | BH102: =IF(N102="sníž. přenesená",J102,0) -> 0 | BI102: =IF(N102="nulová",J102,0) -> 0 | BJ102: 1 | BK102: =ROUND(I102*H102,2) -> 0 | BL102: 4 | BM102: 1032590095
D103: VV | F103: Výkop rýhy pro drenáž | AT103: VV | AU103: 2 | AV103: 1 | AW103: True | AX103: 0 | AY103: ROZPOCET
D104: VV | F104: 154,81*0,3*0,3 | H104: 13.933 | AT104: VV | AU104: 2 | AV104: 2 | AW104: True | AX104: 0 | AY104: ROZPOCET
D105: VV | F105: Součet | H105: 13.933 | AT105: VV | AU105: 2 | AV105: 4 | AW105: True | AX105: 1 | AY105: ROZPOCET
C106: 9 | D106: K | E106: 132301209 | F106: Příplatek za lepivost k hloubení rýh š do 2000 mm v hornině tř. 4 | G106: m3 | H106: 13.933 | J106: =ROUND(I106*H106,2) -> 0 | K106: CS ÚRS 2019 01 | N106: základní | P106: =O106*H106 -> 0 | Q106: 0 | R106: =Q106*H106 -> 0 | S106: 0 | T106: =S106*H106 -> 0 | AR106: 4 | AT106: K | AU106: 2 | AY106: ROZPOCET | BE106: =IF(N106="základní",J106,0) -> 0 | BF106: =IF(N106="snížená",J106,0) -> 0 | BG106: =IF(N106="zákl. přenesená",J106,0) -> 0 | BH106: =IF(N106="sníž. přenesená",J106,0) -> 0 | BI106: =IF(N106="nulová",J106,0) -> 0 | BJ106: 1 | BK106: =ROUND(I106*H106,2) -> 0 | BL106: 4 | BM106: -186828044
C107: 6 | D107: K | E107: 132312201 | F107: Hloubení rýh š přes 600 do 2000 mm ručním nebo pneum nářadím v soudržných horninách tř. 4 | G107: m3 | H107: 2.733 | J107: =ROUND(I107*H107,2) -> 0 | K107: CS ÚRS 2019 01 | N107: základní | P107: =O107*H107 -> 0 | Q107: 0 | R107: =Q107*H107 -> 0 | S107: 0 | T107: =S107*H107 -> 0 | AR107: 4 | AT107: K | AU107: 2 | AY107: ROZPOCET | BE107: =IF(N107="základní",J107,0) -> 0 | BF107: =IF(N107="snížená",J107,0) -> 0 | BG107: =IF(N107="zákl. přenesená",J107,0) -> 0 | BH107: =IF(N107="sníž. přenesená",J107,0) -> 0 | BI107: =IF(N107="nulová",J107,0) -> 0 | BJ107: 1 | BK107: =ROUND(I107*H107,2) -> 0 | BL107: 4 | BM107: -1250232913
D108: VV | F108: Rýhy CETIN | AT108: VV | AU108: 2 | AV108: 1 | AW108: True | AX108: 0 | AY108: ROZPOCET
D109: VV | F109: 3,26*0,5*0,1+2,63*0,5*1,0+2,51*0,5*1 | H109: 2.733 | AT109: VV | AU109: 2 | AV109: 2 | AW109: True | AX109: 0 | AY109: ROZPOCET
D110: VV | F110: Součet | H110: 2.733 | AT110: VV | AU110: 2 | AV110: 4 | AW110: True | AX110: 1 | AY110: ROZPOCET
C111: 7 | D111: K | E111: 132312209 | F111: Příplatek za lepivost u hloubení rýh š do 2000 mm ručním nebo pneum nářadím v hornině tř. 4 | G111: m3 | H111: 4.373 | J111: =ROUND(I111*H111,2) -> 0 | K111: CS ÚRS 2019 01 | N111: základní | P111: =O111*H111 -> 0 | Q111: 0 | R111: =Q111*H111 -> 0 | S111: 0 | T111: =S111*H111 -> 0 | AR111: 4 | AT111: K | AU111: 2 | AY111: ROZPOCET | BE111: =IF(N111="základní",J111,0) -> 0 | BF111: =IF(N111="snížená",J111,0) -> 0 | BG111: =IF(N111="zákl. přenesená",J111,0) -> 0 | BH111: =IF(N111="sníž. přenesená",J111,0) -> 0 | BI111: =IF(N111="nulová",J111,0) -> 0 | BJ111: 1 | BK111: =ROUND(I111*H111,2) -> 0 | BL111: 4 | BM111: -1896721956
C112: 4 | D112: K | E112: 171101111 | F112: Uložení sypaniny z hornin nesoudržných sypkých s vlhkostí l(d) 0,9 v aktivní zóně | G112: m3 | H112: 737.148 | J112: =ROUND(I112*H112,2) -> 0 | K112: CS ÚRS 2019 01 | N112: základní | P112: =O112*H112 -> 0 | Q112: 0 | R112: =Q112*H112 -> 0 | S112: 0 | T112: =S112*H112 -> 0 | AR112: 4 | AT112: K | AU112: 2 | AY112: ROZPOCET | BE112: =IF(N112="základní",J112,0) -> 0 | BF112: =IF(N112="snížená",J112,0) -> 0 | BG112: =IF(N112="zákl. přenesená",J112,0) -> 0 | BH112: =IF(N112="sníž. přenesená",J112,0) -> 0 | BI112: =IF(N112="nulová",J112,0) -> 0 | BJ112: 1 | BK112: =ROUND(I112*H112,2) -> 0 | BL112: 4 | BM112: -127189618
D113: VV | F113: Násyp z vhodného materiálu | AT113: VV | AU113: 2 | AV113: 1 | AW113: True | AX113: 0 | AY113: ROZPOCET
D114: VV | F114: 21,84*30+6,03*13,59 | H114: 737.148 | AT114: VV | AU114: 2 | AV114: 2 | AW114: True | AX114: 0 | AY114: ROZPOCET
D115: VV | F115: Součet | H115: 737.148 | AT115: VV | AU115: 2 | AV115: 4 | AW115: True | AX115: 1 | AY115: ROZPOCET
C116: 10 | D116: M | E116: 58344171 | F116: štěrkodrť frakce 0/32 | G116: t | H116: 1328.641 | J116: =ROUND(I116*H116,2) -> 0 | K116: CS ÚRS 2019 01 | N116: základní | P116: =O116*H116 -> 0 | Q116: 1 | R116: =Q116*H116 -> 1328.641 | S116: 0 | T116: =S116*H116 -> 0 | AR116: 8 | AT116: M | AU116: 2 | AY116: ROZPOCET | BE116: =IF(N116="základní",J116,0) -> 0 | BF116: =IF(N116="snížená",J116,0) -> 0 | BG116: =IF(N116="zákl. přenesená",J116,0) -> 0 | BH116: =IF(N116="sníž. přenesená",J116,0) -> 0 | BI116: =IF(N116="nulová",J116,0) -> 0 | BJ116: 1 | BK116: =ROUND(I116*H116,2) -> 0 | BL116: 4 | BM116: -1819762171
D117: VV | F117: Přepočet na t | AT117: VV | AU117: 2 | AV117: 1 | AW117: True | AX117: 0 | AY117: ROZPOCET
D118: VV | F118: Násyp | AT118: VV | AU118: 2 | AV118: 1 | AW118: True | AX118: 0 | AY118: ROZPOCET
D119: VV | F119: 737,148*1,8 | H119: 1326.866 | AT119: VV | AU119: 2 | AV119: 2 | AW119: True | AX119: 0 | AY119: ROZPOCET
D120: VV | F120: Zásyp potrubí CETIN | AT120: VV | AU120: 2 | AV120: 1 | AW120: True | AX120: 0 | AY120: ROZPOCET
D121: VV | F121: 0,986*1,8 | H121: 1.775 | AT121: VV | AU121: 2 | AV121: 2 | AW121: True | AX121: 0 | AY121: ROZPOCET
D122: VV | F122: Součet | H122: 1328.641 | AT122: VV | AU122: 2 | AV122: 4 | AW122: True | AX122: 1 | AY122: ROZPOCET
C123: 15 | D123: K | E123: 174101101 | F123: Zásyp jam, šachet rýh nebo kolem objektů sypaninou se zhutněním | G123: m3 | H123: 0.986 | J123: =ROUND(I123*H123,2) -> 0 | K123: CS ÚRS 2013 02 | N123: základní | P123: =O123*H123 -> 0 | Q123: 0 | R123: =Q123*H123 -> 0 | S123: 0 | T123: =S123*H123 -> 0 | AR123: 4 | AT123: K | AU123: 2 | AY123: ROZPOCET | BE123: =IF(N123="základní",J123,0) -> 0 | BF123: =IF(N123="snížená",J123,0) -> 0 | BG123: =IF(N123="zákl. přenesená",J123,0) -> 0 | BH123: =IF(N123="sníž. přenesená",J123,0) -> 0 | BI123: =IF(N123="nulová",J123,0) -> 0 | BJ123: 1 | BK123: =ROUND(I123*H123,2) -> 0 | BL123: 4 | BM123: 683666233
D124: VV | F124: Dopočet | AT124: VV | AU124: 2 | AV124: 1 | AW124: True | AX124: 0 | AY124: ROZPOCET
D125: VV | F125: 2,733-0,487-1,26 | H125: 0.986 | AT125: VV | AU125: 2 | AV125: 2 | AW125: True | AX125: 0 | AY125: ROZPOCET
D126: VV | F126: Součet | H126: 0.986 | AT126: VV | AU126: 2 | AV126: 4 | AW126: True | AX126: 1 | AY126: ROZPOCET
C127: 17 | D127: M | E127: 583313400 | F127: kamenivo těžené drobné frakce 0-8 | G127: t | H127: 2.268 | J127: =ROUND(I127*H127,2) -> 0 | K127: CS ÚRS 2013 02 | N127: základní | P127: =O127*H127 -> 0 | Q127: 1 | R127: =Q127*H127 -> 2.268 | S127: 0 | T127: =S127*H127 -> 0 | AR127: 8 | AT127: M | AU127: 2 | AY127: ROZPOCET | BE127: =IF(N127="základní",J127,0) -> 0 | BF127: =IF(N127="snížená",J127,0) -> 0 | BG127: =IF(N127="zákl. přenesená",J127,0) -> 0 | BH127: =IF(N127="sníž. přenesená",J127,0) -> 0 | BI127: =IF(N127="nulová",J127,0) -> 0 | BJ127: 1 | BK127: =ROUND(I127*H127,2) -> 0 | BL127: 4 | BM127: -473102929
D128: VV | F128: Přžepočet na t | AT128: VV | AU128: 2 | AV128: 1 | AW128: True | AX128: 0 | AY128: ROZPOCET
D129: VV | F129: 1,260*1,8 | H129: 2.268 | AT129: VV | AU129: 2 | AV129: 2 | AW129: True | AX129: 0 | AY129: ROZPOCET
D130: VV | F130: Součet | H130: 2.268 | AT130: VV | AU130: 2 | AV130: 4 | AW130: True | AX130: 1 | AY130: ROZPOCET
C131: 18 | D131: K | E131: 175151101 | F131: Obsypání potrubí strojně sypaninou bez prohození, uloženou do 3 m | G131: m3 | H131: 1.26 | J131: =ROUND(I131*H131,2) -> 0 | K131: CS ÚRS 2019 01 | N131: základní | P131: =O131*H131 -> 0 | Q131: 0 | R131: =Q131*H131 -> 0 | S131: 0 | T131: =S131*H131 -> 0 | AR131: 4 | AT131: K | AU131: 2 | AY131: ROZPOCET | BE131: =IF(N131="základní",J131,0) -> 0 | BF131: =IF(N131="snížená",J131,0) -> 0 | BG131: =IF(N131="zákl. přenesená",J131,0) -> 0 | BH131: =IF(N131="sníž. přenesená",J131,0) -> 0 | BI131: =IF(N131="nulová",J131,0) -> 0 | BJ131: 1 | BK131: =ROUND(I131*H131,2) -> 0 | BL131: 4 | BM131: -1478486041
D132: VV | F132: Obsypání potrubí | AT132: VV | AU132: 2 | AV132: 1 | AW132: True | AX132: 0 | AY132: ROZPOCET
D133: VV | F133: (3,26+2,63+2,51)*0,5*0,3 | H133: 1.26 | AT133: VV | AU133: 2 | AV133: 2 | AW133: True | AX133: 0 | AY133: ROZPOCET
...
