Workbook

Sheet Rekapitulace stavby
A1: Export Komplet | BA1: 2.0 | BB1: ZAMOK | BT1: False | BU1: False | BV1: {2ea4772a-d59f-450f-81f0-a581f5ea7a1c}
BS2: 0,01 | BT2: 21
BS3: 0,01 | BT3: 15
D4: REKAPITULACE STAVBY | AS4: v --- níže se nacházejí doplnkové a pomocné údaje k sestavám --- v | BE4: Návod na vyplnění | BS4: 0,001
D5: Kód: | K5: Z717 | BE5: Měnit lze pouze buňky se žlutým podbarvením!_x000D_ _x000D_ 1) na prvním listu Rekapitulace stavby vyplňte v sestavě_x000D_ _x000D_ a) Souhrnný list_x000D_ - údaje o Zhotoviteli_x000D_ (přenesou se do ostatních sestav i v jiných listech)_x000D_ _x000D_ b) Rekapitulace objektů_x000D_ - potřebné Ostatní náklady_x000D_ _x000D_ 2) na vybraných listech vyplňte v sestavě_x000D_ _x000D_ a) Krycí list_x000D_ - údaje o Zhotoviteli, pokud se liší od údajů o Zhotoviteli na Souhrnném listu_x000D_ (údaje se přenesou do ostatních sestav v daném listu)_x000D_ _x000D_ b) Rekapitulace rozpočtu_x000D_ - potřebné Ostatní náklady_x000D_ _x000D_ c) Celkové náklady za stavbu_x000D_ - ceny u položek_x000D_ - množství, pokud má žluté podbarvení_x000D_ - a v případě potřeby poznámku (ta je ve skrytém sloupci) | BS5: 0,01
D6: Stavba: | K6: Chodník od mostu přes Olši k firmě Netis | BS6: 0,01
D7: KSO: | AK7: CC-CZ: | BS7: 0,01
D8: Místo: | K8: Obec Návsí | AK8: Datum: | AN8: 16. 1. 2020 | BS8: 0,01
BS9: 0,01
D10: Zadavatel: | AK10: IČ: | BS10: 0,01
AK11: DIČ: | BS11: 0,01
BS12: 0,01
D13: Uchazeč: | AK13: IČ: | AN13: Vyplň údaj | BS13: 0,01
E14: Vyplň údaj | AK14: DIČ: | AN14: Vyplň údaj | BS14: 0,01
BS15: False
D16: Projektant: | AK16: IČ: | BS16: False
AK17: DIČ: | BS17: True
BS18: 0,01
D19: Zpracovatel: | AK19: IČ: | BS19: 0,01
AK20: DIČ: | BS20: True
D22: Poznámka:
D26: Cena bez DPH | AK26: =ROUND(AG54,2) -> 0
L28: Sazba daně | W28: Základ daně | AK28: Výše daně
D29: DPH | F29: základní | L29: 0.21 | W29: =ROUND(AZ54, 2) -> 0 | AK29: =ROUND(AV54, 2) -> 0
F30: snížená | L30: 0.15 | W30: =ROUND(BA54, 2) -> 0 | AK30: =ROUND(AW54, 2) -> 0
F31: zákl. přenesená | L31: 0.21 | W31: =ROUND(BB54, 2) -> 0 | AK31: 0
F32: sníž. přenesená | L32: 0.15 | W32: =ROUND(BC54, 2) -> 0 | AK32: 0
F33: nulová | L33: 0 | W33: =ROUND(BD54, 2) -> 0 | AK33: 0
D35: Cena s DPH | T35: v | X35: CZK | AK35: =SUM(AK26:AK33) -> 0
C42: REKAPITULACE OBJEKTŮ STAVBY A SOUPISŮ PRACÍ
C44: Kód: | L44: =K5 -> Z717
C45: Stavba: | L45: =K6 -> Chodník od mostu přes Olši k firmě Netis
C47: Místo: | L47: =IF(K8="","",K8) -> Obec Návsí | AI47: Datum: | AM47: =IF(AN8= "","",AN8) -> 16. 1. 2020
C49: Zadavatel: | L49: =IF(E11= "","",E11) | AI49: Projektant: | AM49: =IF(E17="","",E17) | AS49: Informatívní údaje z listů zakázek
C50: Uchazeč: | L50: =IF(E14= "Vyplň údaj","",E14) | AI50: Zpracovatel: | AM50: =IF(E20="","",E20)
C52: Kód | I52: Popis | AG52: Cena bez DPH [CZK] | AN52: Cena s DPH [CZK] | AQ52: Typ | AS52: z toho Ostat._x000D_ náklady [CZK] | AT52: DPH [CZK] | AU52: Normohodiny [h] | AV52: DPH základní [CZK] | AW52: DPH snížená [CZK] | AX52: DPH základní přenesená_x000D_ [CZK] | AY52: DPH snížená přenesená_x000D_ [CZK] | AZ52: Základna_x000D_ DPH základní | BA52: Základna_x000D_ DPH snížená | BB52: Základna_x000D_ DPH zákl. přenesená | BC52: Základna_x000D_ DPH sníž. přenesená | BD52: Základna_x000D_ DPH nulová
C54: Náklady z rozpočtů | AG54: =ROUND(AG55,2) -> 0 | AN54: =SUM(AG54,AT54) -> 0 | AS54: =ROUND(AS55,2) -> 0 | AT54: =ROUND(SUM(AV54:AW54),2) -> 0 | AU54: =ROUND(AU55,5) -> 0 | AV54: =ROUND(AZ54*L29,2) -> 0 | AW54: =ROUND(BA54*L30,2) -> 0 | AX54: =ROUND(BB54*L29,2) -> 0 | AY54: =ROUND(BC54*L30,2) -> 0 | AZ54: =ROUND(AZ55,2) -> 0 | BA54: =ROUND(BA55,2) -> 0 | BB54: =ROUND(BB55,2) -> 0 | BC54: =ROUND(BC55,2) -> 0 | BD54: =ROUND(BD55,2) -> 0 | BS54: D | BT54: 0 | BV54: IMPORT | BW54: {2ea4772a-d59f-450f-81f0-a581f5ea7a1c} | BX54: {00000000-0000-0000-0000-000000000000}
A55: / | D55: Z717 | J55: Chodník od mostu přes Olši k firmě Netis | AG55: ='Z717 - Chodník od mostu p...'!J28 -> 0 | AN55: =SUM(AG55,AT55) -> 0 | AQ55: STA | AS55: 0 | AT55: =ROUND(SUM(AV55:AW55),2) -> 0 | AU55: ='Z717 - Chodník od mostu p...'!P86 -> 0 | AV55: ='Z717 - Chodník od mostu p...'!J31 -> 0 | AW55: ='Z717 - Chodník od mostu p...'!J32 -> 0 | AX55: ='Z717 - Chodník od mostu p...'!J33 -> 0 | AY55: ='Z717 - Chodník od mostu p...'!J34 -> 0 | AZ55: ='Z717 - Chodník od mostu p...'!F31 -> 0 | BA55: ='Z717 - Chodník od mostu p...'!F32 -> 0 | BB55: ='Z717 - Chodník od mostu p...'!F33 -> 0 | BC55: ='Z717 - Chodník od mostu p...'!F34 -> 0 | BD55: ='Z717 - Chodník od mostu p...'!F35 -> 0 | BT55: 1 | BU55: ###NOINSERT### | BV55: IMPORT | BW55: {2ea4772a-d59f-450f-81f0-a581f5ea7a1c} | BX55: {00000000-0000-0000-0000-000000000000}

Sheet Z717 - Chodník od mostu p...
AT2: {2ea4772a-d59f-450f-81f0-a581f5ea7a1c}
AT3: 2
D4: KRYCÍ LIST SOUPISU PRACÍ | M4: v --- níže se nacházejí doplnkové a pomocné údaje k sestavám --- v | AT4: False
D6: Stavba:
E7: Chodník od mostu přes Olši k firmě Netis
D9: KSO: | I9: CC-CZ:
D10: Místo: | F10: Obec Návsí | I10: Datum: | J10: ='Rekapitulace stavby'!AN8 -> 16. 1. 2020
D12: Zadavatel: | I12: IČ: | J12: =IF('Rekapitulace stavby'!AN10="","",'Rekapitulace stavby'!AN10)
E13: =IF('Rekapitulace stavby'!E11="","",'Rekapitulace stavby'!E11) | I13: DIČ: | J13: =IF('Rekapitulace stavby'!AN11="","",'Rekapitulace stavby'!AN11)
D15: Uchazeč: | I15: IČ: | J15: ='Rekapitulace stavby'!AN13 -> Vyplň údaj
E16: ='Rekapitulace stavby'!E14 -> Vyplň údaj | I16: DIČ: | J16: ='Rekapitulace stavby'!AN14 -> Vyplň údaj
D18: Projektant: | I18: IČ: | J18: =IF('Rekapitulace stavby'!AN16="","",'Rekapitulace stavby'!AN16)
E19: =IF('Rekapitulace stavby'!E17="","",'Rekapitulace stavby'!E17) | I19: DIČ: | J19: =IF('Rekapitulace stavby'!AN17="","",'Rekapitulace stavby'!AN17)
D21: Zpracovatel: | I21: IČ: | J21: =IF('Rekapitulace stavby'!AN19="","",'Rekapitulace stavby'!AN19)
E22: =IF('Rekapitulace stavby'!E20="","",'Rekapitulace stavby'!E20) | I22: DIČ: | J22: =IF('Rekapitulace stavby'!AN20="","",'Rekapitulace stavby'!AN20)
D24: Poznámka:
D28: Cena bez DPH | J28: =ROUND(J86, 2) -> 0
F30: Základ daně | I30: Sazba daně | J30: Výše daně
D31: DPH | E31: základní | F31: =ROUND((SUM(BE86:BE231)), 2) -> 0 | I31: 0.21 | J31: =ROUND(((SUM(BE86:BE231))*I31), 2) -> 0
E32: snížená | F32: =ROUND((SUM(BF86:BF231)), 2) -> 0 | I32: 0.15 | J32: =ROUND(((SUM(BF86:BF231))*I32), 2) -> 0
E33: zákl. přenesená | F33: =ROUND((SUM(BG86:BG231)), 2) -> 0 | I33: 0.21 | J33: =0 -> 0
E34: sníž. přenesená | F34: =ROUND((SUM(BH86:BH231)), 2) -> 0 | I34: 0.15 | J34: =0 -> 0
E35: nulová | F35: =ROUND((SUM(BI86:BI231)), 2) -> 0 | I35: 0 | J35: =0 -> 0
D37: Cena s DPH | G37: v | H37: CZK | J37: =SUM(J28:J35) -> 0
C43: REKAPITULACE ČLENĚNÍ SOUPISU PRACÍ
C45: Stavba:
E46: =E7 -> Chodník od mostu přes Olši k firmě Netis
C48: Místo: | F48: =F10 -> Obec Návsí | I48: Datum: | J48: =IF(J10="","",J10) -> 16. 1. 2020
C50: Zadavatel: | F50: =E13 | I50: Projektant: | J50: =E19
C51: Uchazeč: | F51: =IF(E16="","",E16) -> Vyplň údaj | I51: Zpracovatel: | J51: =E22
C53: Kód dílu - Popis | J53: Cena celkem [CZK]
C55: Náklady ze soupisu prací | J55: =J86 -> 0 | AU55: -1
D56: HSV - Práce a dodávky HSV | J56: =J87 -> 0
D57: 1 - Zemní práce | J57: =J88 -> 0
D58: 2 - Zakládání | J58: =J142 -> 0
D59: 4 - Vodorovné konstrukce | J59: =J152 -> 0
D60: 5 - Komunikace pozemní | J60: =J156 -> 0
D61: 8 - Trubní vedení | J61: =J178 -> 0
D62: 9 - Ostatní konstrukce a práce, bourání | J62: =J180 -> 0
D63: PSV - Práce a dodávky PSV | J63: =J203 -> 0
...
